BEGIN:VCALENDAR
VERSION:2.0
PRODID:-//St. Jakobusbruderschaft Trier e.V. - ECPv4.6.19//NONSGML v1.0//EN
CALSCALE:GREGORIAN
METHOD:PUBLISH
X-WR-CALNAME:St. Jakobusbruderschaft Trier e.V.
X-ORIGINAL-URL:http://sjb-trier.de
X-WR-CALDESC:Veranstaltungen für St. Jakobusbruderschaft Trier e.V.
BEGIN:VEVENT
DTSTART;TZID=Europe/Berlin:20180722T170000
DTEND;TZID=Europe/Berlin:20180722T210000
DTSTAMP:20180623T100930
CREATED:20180406T212749Z
LAST-MODIFIED:20180406T212749Z
UID:56665-1532278800-1532293200@sjb-trier.de
SUMMARY:Jakobusfest
DESCRIPTION:Heute feiert unsere Bruderschaft das traditionelle Jakobusfest zur Ehren Ihres Schutzpatrons. Alle Mitglieder der St. Jakobusbruderschaft Trier sind zu diesem Fest herzlich eingeladen. (Persönliche Einladungen werden verschickt.) \n
URL:http://sjb-trier.de/event/jakobusfest-2/
LOCATION:Domfreihof\, Trier\, RLP\, 54290\, Deutschland
CATEGORIES:Termine sjb
ATTACH;FMTTYPE=image/jpeg:http://sjb-trier.de/wp-content/uploads/2013/07/Irminen.jpg
END:VEVENT
BEGIN:VEVENT
DTSTART;TZID=Europe/Berlin:20180727T180000
DTEND;TZID=Europe/Berlin:20180727T190000
DTSTAMP:20180623T100930
CREATED:20180406T210148Z
LAST-MODIFIED:20180406T210148Z
UID:56653-1532714400-1532718000@sjb-trier.de
SUMMARY:Kein Jakobusabend\, aber Pilgersegen
DESCRIPTION:Am 27. Juli fällt der reguläre Jakobusabend wegen der Ferien aus. Der Einzel-Pilgersegen im Anschluss an die Hl. Messe in der Marktkirche St. Gangolph in Trier wird aber wie üblich erteilt. \n
URL:http://sjb-trier.de/event/kein-jakobusabend-aber-pilgersegen-2/
LOCATION:Hauptmarkt\, Trier\, RLP\, 54290\, Deutschland
CATEGORIES:Termine sjb
ATTACH;FMTTYPE=image/jpeg:http://sjb-trier.de/wp-content/uploads/Gangolph.jpg
END:VEVENT
BEGIN:VEVENT
DTSTART;TZID=Europe/Berlin:20180915T080000
DTEND;TZID=Europe/Berlin:20180915T180000
DTSTAMP:20180623T100930
CREATED:20180409T054336Z
LAST-MODIFIED:20180409T054515Z
UID:57011-1536998400-1537034400@sjb-trier.de
SUMMARY:“Lebensreise“ - Pilgern für Beginner
DESCRIPTION:Einen Tag auf dem Jakobus-Pilgerweg von Litdorf/ Fisch nach Perl (Obermosel) \nZum „Pilgern für Beginner“ lädt die St. Jakobusbruderschaft Trier Interessierte sowie Pilgerinnen und Pilger für Samstag\, 15. September 2018 von 08.00 h bis ca. 18.00 h ein. Wir starten um 8.00 h auf dem Parkplatz vor der Basilika St. Matthias; von dort bringt uns ein Bus nach Litdorf/ Fisch. Um 08.30 beginnt der Pilgertag mit einer Statio in der St. Jakobuskirche Litdorf/ Fisch (bei Saarburg). Die ca. 23 km weite Strecke auf dem Jakobus-Pilgerweg führt uns nach Perl an der Obermosel und von dort mit dem Bus zurück nach Trier. Der Pilgertag steht unter dem Motto: „Lebensreise“. Mehrere thematische Haltepunkte und geistliche Impulse machen die Pilgerstrecke zu einem bereichernden gemeinschaftlichen wie persönlichen Erlebnis. Die Gruppe wird von einem geschulten Leitungsteam der St. Jakobusbruderschaft Trier begleitet. \n Die Teilnehmenden sorgen für eigene Tagesverpflegung und angemessene Wanderausstattung.  \nIn der Teilnahmegebühr von (voraussichtlich)18 € sind enthalten: Pilgerheft\, Finanzierung des Begleitfahrzeugs sowie der Bustransfer für die Anreise Trier St. Matthias zur Jakobuskirche in Litdorf und die Rückfahrt: Perl – Litdorf Trier-St. Matthias. \nWeitere Informationen und Anmeldung (mit Anschrift\, Telefonnummer und Email Adresse): \nKEB im Dekanat Trier\, Pastoralreferent Johannes Rau\, Paulusplatz 3\, 54290 Trier\, Email: Johannes.Rau@Bistum-Trier.de; Rückfragen sind möglich unter 0651/979419-5. \n
URL:http://sjb-trier.de/event/lebensreise-pilgern-fuer-beginner/
LOCATION:Matthiasstraße\, Trier\, RLP\, 54290\, Deutschland
CATEGORIES:Termine sjb
ATTACH;FMTTYPE=image/jpeg:http://sjb-trier.de/wp-content/uploads/2013/07/IMG_1091.jpg
END:VEVENT
BEGIN:VEVENT
DTSTART;TZID=Europe/Berlin:20180921T170000
DTEND;TZID=Europe/Berlin:20180923T150000
DTSTAMP:20180623T100930
CREATED:20180406T211053Z
LAST-MODIFIED:20180409T055342Z
UID:56656-1537549200-1537714800@sjb-trier.de
SUMMARY:Achtsam pilgern II - Ressourcen finden - Besonderheiten erleben
DESCRIPTION:Ein Ziel vor Augen\, den Weg mit all seinen Schönheiten\, Ungewissheiten\, Besonderheiten und Herausforderungen unter den Füßen\, immer wieder neu die Prüfung\, was an Proviant und Ausrüstung wirklich erforderlich und was nur Ballast ist\, was lähmt und was beflügelt\, den körperlichen und mentalen Grenzen zu begegnen und daran zu reifen\, die Mitpilgernden als Bereicherung und Herausforderung zu erleben und bei all dem sich selbst\, auch in der Kürze der Zeit zu begegnen. \nBereits zum zweiten Mal bietet das Institut für Arbeitsfähigkeit in Mainz dieses Format speziell für Menschen\, die im Berufsleben stehen\, in Kooperation mit der St. Jakobusbruderschaft Trier an. \nDie erfahrenen Pilger Markus Nicolay und Marianne Giesert werden sie begleiten. Markus Nicolay ist katholischer Priester. Der Sekretär der St. Jakobusbruderschaft Trier hat bereits dreimal Rom\, zweimal Santiago de Compostela und je einmal Trondheim und Jerusalem mit dem Fahrrad  erreicht. Marianne Giesert ist als Geschäftsführende Gesellschafterin beim Institut für  Arbeitsfähigkeit tätig. Als Coach und Supervisorin kennt sie sich mit dem Aufbau von Ressourcen besonders gut aus. \nUnser Weg: \nFreitag: Ankommen in Mannebach\, Vorstellrunde und Kennenlernen. Abendessen und Übernachtung im Brauhaus Mannebach \nSamstag: Start in Mannebach – Der Pilgerweg beginnt. Tagesziel: Schengen/Luxemburg. Transfer zurück nach Mannebach. Abendessen und Übernachtung wieder im Brauhaus Mannebach. \nSonntag: Tagesziel ist Thionville/Frankreich. Hier ist das diesjährige Ende unserer Pilgertour. Rückfahrt mit der Bahn oder individuelle Abreise. \n  \nPersönliche Voraussetzungen: \n\nGute körperliche Verfassung\nFestes\, gutes Schuhwerk und geeignete Kleidung (regenabweisende Jacke usw.)\nAußerdem: Die Offenheit für Unplanbares in allen Dimensionen oder zumindest die Bereitschaft\, diese Offenheit (neu) zu lernen.\n\n  \nTermine und Teilnahmegebühr: \n21.-23.9.2018 \nKosten: 90\,00 € Übernachtungen im Doppelzimmer inkl. MwSt\, 175\,00 € Pilgerpauschale zzgl. 19% MwSt. \n  \n\nDownload (PDF\, 2.03MB) \n  \nEine Veranstaltung des Instituts für Arbeitsfähigkeit\, Mainz in Kooperation mit der St. Jakobusbruderschaft Trier. \n  \n
URL:http://sjb-trier.de/event/achtsam-pilgern-ressourcen-finden-besonderheiten-erleben-2/
LOCATION:Brauhaus\, Mannebach\, RLP\, 54439\, Deutschland
CATEGORIES:Termine sjb,Termine sonstige
ATTACH;FMTTYPE=image/jpeg:http://sjb-trier.de/wp-content/uploads/2015/11/IMG_2221a.jpg
ORGANIZER;CN="Institut%20f%C3%BCr%20Arbeitsf%C3%A4higkeit":MAILTO:gutentag@arbeitsfaehig.com&lt;gutentag@arbeitsfaehig.com&gt;;
END:VEVENT
BEGIN:VEVENT
DTSTART;TZID=Europe/Berlin:20180928T180000
DTEND;TZID=Europe/Berlin:20180928T200000
DTSTAMP:20180623T100930
CREATED:20180406T205718Z
LAST-MODIFIED:20180406T205718Z
UID:56647-1538157600-1538164800@sjb-trier.de
SUMMARY:Jakobusabend
DESCRIPTION:Am 28. September ist der nächste Jakobusabend\, der an jedem letzten Freitag eines ungeraden Monats (außer Juli) stattfindet. \nWir beginnen – wie immer – um 18.00 Uhr mit der Feier der Hl. Messe in der Kirche St. Gangolph\, direkt am Hauptmarkt gelegen.\nAm Ende des Gottesdienstes singen wir das Jakobuslied unserer Bruderschaft.\nAlle Pilgerinnen und Pilger\, die in den nächsten Wochen zu einer Pilgerfahrt aufbrechen\, haben Gelegenheit\, den Einzelpilgersegen zu empfangen. \nAnschließend wechseln wir zum Informationsteil ins Pfarrheim Liebfrauen (An der Meerkatz). Dort gibt es zunächst allgemeine Informationen\, anschließend werden Infogruppen für Fuß- und Radpilger gebildet\, in denen es keine “dummen” Fragen und hoffentlich viele Antworten aus berufenem Munde gibt. \nDaneben treffen sich die erfahrenen Pilger zum Pilgerstammtisch. \n
URL:http://sjb-trier.de/event/jakobusabend-7-2-2-2/
LOCATION:Hauptmarkt\, Trier\, RLP\, 54290\, Deutschland
CATEGORIES:Termine sjb
ATTACH;FMTTYPE=image/jpeg:http://sjb-trier.de/wp-content/uploads/IMG_3331.jpg
END:VEVENT
BEGIN:VEVENT
DTSTART;TZID=Europe/Berlin:20181130T180000
DTEND;TZID=Europe/Berlin:20181130T200000
DTSTAMP:20180623T100930
CREATED:20180406T205942Z
LAST-MODIFIED:20180406T205942Z
UID:56650-1543600800-1543608000@sjb-trier.de
SUMMARY:Jakobusabend und Bruderschaftsversammlung
DESCRIPTION:Am 30. November ist der nächste Jakobusabend\, der an jedem letzten Freitag eines ungeraden Monats (außer Juli) stattfindet. \n  \nWir feiern um 18.00 Uhr die Hl. Messe in der Kirche St. Gangolph\, direkt am Hauptmarkt gelegen.\nAm Ende des Gottesdienstes singen wir das Jakobuslied unserer Bruderschaft.\nAlle Pilgerinnen und Pilger\, die in den nächsten Wochen zu einer Pilgerfahrt aufbrechen\, haben Gelegenheit\, den Einzelpilgersegen zu empfangen. \nAnschließend treffen sich die Mitglieder unserer Bruderschaft zur Bruderschaftsversammlung (Mitgliederversammlung). Hierzu ergeht eine persönliche Einladung. \n  \n
URL:http://sjb-trier.de/event/jakobusabend-und-bruderschaftsversammlung-2/
LOCATION:Hauptmarkt\, Trier\, RLP\, 54290\, Deutschland
CATEGORIES:Termine sjb
ATTACH;FMTTYPE=image/jpeg:http://sjb-trier.de/wp-content/uploads/2016/11/CoverBuch_sjb-e1479076927400.jpg
END:VEVENT
END:VCALENDAR